BEGIN:VCALENDAR
VERSION:2.0
PRODID:-//Slovak Steel Darts - ECPv4.9.6//NONSGML v1.0//EN
CALSCALE:GREGORIAN
METHOD:PUBLISH
X-WR-CALNAME:Slovak Steel Darts
X-ORIGINAL-URL:https://www.slovaksteeldarts.sk
X-WR-CALDESC:Udalosti pre Slovak Steel Darts
BEGIN:VTIMEZONE
TZID:"Europe/Bratislava"
BEGIN:DAYLIGHT
TZOFFSETFROM:+0100
TZOFFSETTO:+0200
TZNAME:CEST
DTSTART:20200329T010000
END:DAYLIGHT
BEGIN:STANDARD
TZOFFSETFROM:+0200
TZOFFSETTO:+0100
TZNAME:CET
DTSTART:20201025T010000
END:STANDARD
END:VTIMEZONE
BEGIN:VEVENT
DTSTART;VALUE=DATE:20200215
DTEND;VALUE=DATE:20200216
DTSTAMP:20260424T080815
CREATED:20190814T123216Z
LAST-MODIFIED:20200904T111018Z
UID:248-1581724800-1581811199@www.slovaksteeldarts.sk
SUMMARY:Master-Sev.-západ v Novákoch
DESCRIPTION:
URL:https://www.slovaksteeldarts.sk/podujatie/master-sev-zapad-v-novakoch-2/
LOCATION:Nováky
CATEGORIES:Master
ATTACH;FMTTYPE=image/jpeg:https://www.slovaksteeldarts.sk/wp-content/uploads/bg4.jpg
END:VEVENT
END:VCALENDAR