BEGIN:VCALENDAR
VERSION:2.0
PRODID:-//Slovak Steel Darts - ECPv4.9.6//NONSGML v1.0//EN
CALSCALE:GREGORIAN
METHOD:PUBLISH
X-WR-CALNAME:Slovak Steel Darts
X-ORIGINAL-URL:https://www.slovaksteeldarts.sk
X-WR-CALDESC:Udalosti pre Slovak Steel Darts
BEGIN:VTIMEZONE
TZID:"Europe/Bratislava"
BEGIN:DAYLIGHT
TZOFFSETFROM:+0100
TZOFFSETTO:+0200
TZNAME:CEST
DTSTART:20260329T010000
END:DAYLIGHT
BEGIN:STANDARD
TZOFFSETFROM:+0200
TZOFFSETTO:+0100
TZNAME:CET
DTSTART:20261025T010000
END:STANDARD
END:VTIMEZONE
BEGIN:VEVENT
DTSTART;TZID="Europe/Bratislava":20260509T080000
DTEND;TZID="Europe/Bratislava":20260509T170000
DTSTAMP:20260421T125338
CREATED:20250924T185736Z
LAST-MODIFIED:20260215T191241Z
UID:5714-1778313600-1778346000@www.slovaksteeldarts.sk
SUMMARY:Master č.5 (Región NR) - Nitra
DESCRIPTION:
URL:https://www.slovaksteeldarts.sk/podujatie/master-c-5-region-nr-nitra/
END:VEVENT
END:VCALENDAR